BEGIN:VCALENDAR
VERSION:2.0
PRODID:-//Tukios.com/
BEGIN:VEVENT
UID:307b99fc-9554-47a4-8ca9-fdb45a2e5e65@www.woodsidefhc.com
DTSTAMP:20260422T012730Z
DTSTART:20260427T150000Z
DTEND:20260427T160000Z
SUMMARY:Public Viewing
DESCRIPTION:
URL:https://www.woodsidefhc.com/obituaries/ruth-johnson
LOCATION:     
GEO:0;0
END:VEVENT
END:VCALENDAR