BEGIN:VCALENDAR
VERSION:2.0
PRODID:-//Tukios.com/
BEGIN:VEVENT
UID:3cadb0b5-6c9a-4adb-aaf5-177f274f44c3@www.woodsidefhc.com
DTSTAMP:20260422T012613Z
DTSTART:20260427T160000Z
DTEND:20260427T170000Z
SUMMARY:Funeral Service
DESCRIPTION:
URL:https://www.woodsidefhc.com/obituaries/ruth-johnson
LOCATION:     
GEO:0;0
END:VEVENT
END:VCALENDAR