BEGIN:VCALENDAR
VERSION:2.0
PRODID:-//Tukios.com/
BEGIN:VEVENT
UID:8e4595b5-3ac7-4744-a945-b50a3286c636@www.woodsidefhc.com
DTSTAMP:20260420T231331Z
DTSTART:20260425T200000Z
DTEND:20260425T210000Z
SUMMARY:Other
DESCRIPTION:
URL:https://www.woodsidefhc.com/obituaries/ronald-mathis
LOCATION:     
GEO:0;0
END:VEVENT
END:VCALENDAR