BEGIN:VCALENDAR
VERSION:2.0
PRODID:-//Tukios.com/
BEGIN:VEVENT
UID:c2e86f17-e8cc-471b-85a3-68a771752258@www.woodsidefhc.com
DTSTAMP:20260420T230640Z
DTSTART:20260425T210000Z
DTEND:20260425T220000Z
SUMMARY:Memorial Service
DESCRIPTION:
URL:https://www.woodsidefhc.com/obituaries/ronald-mathis
LOCATION:     
GEO:0;0
END:VEVENT
END:VCALENDAR